BEGIN:VCALENDAR
VERSION:2.0
PRODID:-//Doppelpunkt//Events//DE
CALSCALE:GREGORIAN
METHOD:PUBLISH
BEGIN:VEVENT
UID:event-2586@www.doppelpunkt.de
DTSTAMP:20260420T183201
DTSTART:20251230T193000
DTEND:20251230T193000
SUMMARY:The Capital Dance Orchestra feat. Sharon Brauner & Meta Hüper/Susi Wiemer: "Berlin\, du coole Sau"\, Musik- u. Tanz-Revue
LOCATION:Stadttheater Fürth\, Königstr. 116\, 90762 Fürth
STATUS:CONFIRMED
END:VEVENT
END:VCALENDAR