BEGIN:VCALENDAR
VERSION:2.0
PRODID:-//Doppelpunkt//Events//DE
CALSCALE:GREGORIAN
METHOD:PUBLISH
BEGIN:VEVENT
UID:event-2582@www.doppelpunkt.de
DTSTAMP:20260425T122825
DTSTART:20251219T193000
DTEND:20251219T193000
SUMMARY:Württembergische Landesbühne Esslingen: "Der Messias"\, Weihnachtskomödie von Patrick Barlow
LOCATION:Stadttheater Fürth\, Königstr. 116\, 90762 Fürth
STATUS:CONFIRMED
END:VEVENT
END:VCALENDAR