BEGIN:VCALENDAR
VERSION:2.0
PRODID:-//Doppelpunkt//Events//DE
CALSCALE:GREGORIAN
METHOD:PUBLISH
BEGIN:VEVENT
UID:event-2581@www.doppelpunkt.de
DTSTAMP:20260421T111721
DTSTART:20251217T193000
DTEND:20251217T193000
SUMMARY:Landestheater Detmold: "La Traviata"\, Oper von G. Verdi
LOCATION:Stadttheater Fürth\, Königstr. 116\, 90762 Fürth
STATUS:CONFIRMED
END:VEVENT
END:VCALENDAR