BEGIN:VCALENDAR
VERSION:2.0
PRODID:-//Doppelpunkt//Events//DE
CALSCALE:GREGORIAN
METHOD:PUBLISH
BEGIN:VEVENT
UID:event-2580@www.doppelpunkt.de
DTSTAMP:20260425T130034
DTSTART:20251215T193000
DTEND:20251215T193000
SUMMARY:Harald Krassnitzer: "Damals an Weihnachten"\, Texte u. Musik
LOCATION:Stadttheater Fürth\, Königstr. 116\, 90762 Fürth
STATUS:CONFIRMED
END:VEVENT
END:VCALENDAR