BEGIN:VCALENDAR
VERSION:2.0
PRODID:-//Doppelpunkt//Events//DE
CALSCALE:GREGORIAN
METHOD:PUBLISH
BEGIN:VEVENT
UID:event-2574@www.doppelpunkt.de
DTSTAMP:20260419T163603
DTSTART:20260211T200000
DTEND:20260211T200000
SUMMARY:Saal: PA69 (Rap)
LOCATION:Z-Bau\, Frankenstr. 200\, 90461 Nürnberg
STATUS:CONFIRMED
END:VEVENT
END:VCALENDAR