BEGIN:VCALENDAR
VERSION:2.0
PRODID:-//Doppelpunkt//Events//DE
CALSCALE:GREGORIAN
METHOD:PUBLISH
BEGIN:VEVENT
UID:event-2571@www.doppelpunkt.de
DTSTAMP:20260425T141818
DTSTART:20260130T190000
DTEND:20260130T190000
SUMMARY:Galerie: Mechanic Tyrants\, Spitfire u.a. (Speed-Metal)
LOCATION:Z-Bau\, Frankenstr. 200\, 90461 Nürnberg
STATUS:CONFIRMED
END:VEVENT
END:VCALENDAR