BEGIN:VCALENDAR
VERSION:2.0
PRODID:-//Doppelpunkt//Events//DE
CALSCALE:GREGORIAN
METHOD:PUBLISH
BEGIN:VEVENT
UID:event-2570@www.doppelpunkt.de
DTSTAMP:20260425T135639
DTSTART:20260127T200000
DTEND:20260127T200000
SUMMARY:Roter Salon: Kontrollverlust (Punkrock)
LOCATION:Z-Bau\, Frankenstr. 200\, 90461 Nürnberg
STATUS:CONFIRMED
END:VEVENT
END:VCALENDAR