BEGIN:VCALENDAR
VERSION:2.0
PRODID:-//Doppelpunkt//Events//DE
CALSCALE:GREGORIAN
METHOD:PUBLISH
BEGIN:VEVENT
UID:event-2567@www.doppelpunkt.de
DTSTAMP:20260421T102524
DTSTART:20260109T200000
DTEND:20260109T200000
SUMMARY:Roter Salon: "Bock auf Blast"\, Black Metal/Pagan
LOCATION:Z-Bau\, Frankenstr. 200\, 90461 Nürnberg
STATUS:CONFIRMED
END:VEVENT
END:VCALENDAR