BEGIN:VCALENDAR
VERSION:2.0
PRODID:-//Doppelpunkt//Events//DE
CALSCALE:GREGORIAN
METHOD:PUBLISH
BEGIN:VEVENT
UID:event-2565@www.doppelpunkt.de
DTSTAMP:20260420T202431
DTSTART:20260101T010000
DTEND:20260101T010000
SUMMARY:"Silvester-Party"\, Techno/Drum'n'Bass/Trance
LOCATION:Z-Bau\, Frankenstr. 200\, 90461 Nürnberg
STATUS:CONFIRMED
END:VEVENT
END:VCALENDAR