BEGIN:VCALENDAR
VERSION:2.0
PRODID:-//Doppelpunkt//Events//DE
CALSCALE:GREGORIAN
METHOD:PUBLISH
BEGIN:VEVENT
UID:event-2563@www.doppelpunkt.de
DTSTAMP:20260421T111722
DTSTART:20251224T230000
DTEND:20251224T230000
SUMMARY:Roter Salon: "Belly Cloud"\, Techno
LOCATION:Z-Bau\, Frankenstr. 200\, 90461 Nürnberg
STATUS:CONFIRMED
END:VEVENT
END:VCALENDAR