BEGIN:VCALENDAR
VERSION:2.0
PRODID:-//Doppelpunkt//Events//DE
CALSCALE:GREGORIAN
METHOD:PUBLISH
BEGIN:VEVENT
UID:event-256@www.doppelpunkt.de
DTSTAMP:20260421T105507
DTSTART:20250810T160000
DTEND:20250810T160000
SUMMARY:DiscoFox-Tanzparty mit DJ Axel
LOCATION:Gasthaus Heidekrug\, Waldluststr. 67\, 90480 Nürnberg
STATUS:CONFIRMED
END:VEVENT
END:VCALENDAR