BEGIN:VCALENDAR
VERSION:2.0
PRODID:-//Doppelpunkt//Events//DE
CALSCALE:GREGORIAN
METHOD:PUBLISH
BEGIN:VEVENT
UID:event-2559@www.doppelpunkt.de
DTSTAMP:20260419T183814
DTSTART:20251207T140000
DTEND:20251207T140000
SUMMARY:Saal: Theater vom Rabenberg: "Petterson bekommt Weihnachtsbesuch"\, ab 3 J. (auch um 16 Uhr)
LOCATION:Z-Bau\, Frankenstr. 200\, 90461 Nürnberg
STATUS:CONFIRMED
END:VEVENT
END:VCALENDAR