BEGIN:VCALENDAR
VERSION:2.0
PRODID:-//Doppelpunkt//Events//DE
CALSCALE:GREGORIAN
METHOD:PUBLISH
BEGIN:VEVENT
UID:event-2555@www.doppelpunkt.de
DTSTAMP:20260425T141820
DTSTART:20260114T190000
DTEND:20260114T190000
SUMMARY:Öffentliche Probe zu: "Europa flieht nach Europa" (Premiere am 24.1.)
LOCATION:Markgrafentheater\, Theaterplatz 2\, 91054 Erlangen
STATUS:CONFIRMED
END:VEVENT
END:VCALENDAR