BEGIN:VCALENDAR
VERSION:2.0
PRODID:-//Doppelpunkt//Events//DE
CALSCALE:GREGORIAN
METHOD:PUBLISH
BEGIN:VEVENT
UID:event-2551@www.doppelpunkt.de
DTSTAMP:20260421T113921
DTSTART:20260207T200000
DTEND:20260207T200000
SUMMARY:Martin Kälberer (Weltmusik/Jazz/Klangwelten)
LOCATION:Kulturfabrik Roth\, Stieberstr. 7\, 91154 Roth
STATUS:CONFIRMED
END:VEVENT
END:VCALENDAR