BEGIN:VCALENDAR
VERSION:2.0
PRODID:-//Doppelpunkt//Events//DE
CALSCALE:GREGORIAN
METHOD:PUBLISH
BEGIN:VEVENT
UID:event-255@www.doppelpunkt.de
DTSTAMP:20260419T152622
DTSTART:20250924T190000
DTEND:20250924T190000
SUMMARY:"KommVorZone": Stammtisch für Kulturaktive
LOCATION:Gaststätte Fasan\, Heynestr. 1\, 90443 Nürnberg
STATUS:CONFIRMED
END:VEVENT
END:VCALENDAR