BEGIN:VCALENDAR
VERSION:2.0
PRODID:-//Doppelpunkt//Events//DE
CALSCALE:GREGORIAN
METHOD:PUBLISH
BEGIN:VEVENT
UID:event-2549@www.doppelpunkt.de
DTSTAMP:20260425T135251
DTSTART:20260129T193000
DTEND:20260129T193000
SUMMARY:Peter Gebhard: "360° Deutschland"\, Live-Reportage
LOCATION:Kulturfabrik Roth\, Stieberstr. 7\, 91154 Roth
STATUS:CONFIRMED
END:VEVENT
END:VCALENDAR