BEGIN:VCALENDAR
VERSION:2.0
PRODID:-//Doppelpunkt//Events//DE
CALSCALE:GREGORIAN
METHOD:PUBLISH
BEGIN:VEVENT
UID:event-2547@www.doppelpunkt.de
DTSTAMP:20260425T142043
DTSTART:20260117T150000
DTEND:20260117T150000
SUMMARY:"Janosch – Oh wie schön ist Panama"\, Familienmusical
LOCATION:Kulturfabrik Roth\, Stieberstr. 7\, 91154 Roth
STATUS:CONFIRMED
END:VEVENT
END:VCALENDAR