BEGIN:VCALENDAR
VERSION:2.0
PRODID:-//Doppelpunkt//Events//DE
CALSCALE:GREGORIAN
METHOD:PUBLISH
BEGIN:VEVENT
UID:event-2546@www.doppelpunkt.de
DTSTAMP:20260425T135709
DTSTART:20260111T190000
DTEND:20260111T190000
SUMMARY:Da Meier und Watschnbaam (Songs/Comedy)
LOCATION:Kulturfabrik Roth\, Stieberstr. 7\, 91154 Roth
STATUS:CONFIRMED
END:VEVENT
END:VCALENDAR