BEGIN:VCALENDAR
VERSION:2.0
PRODID:-//Doppelpunkt//Events//DE
CALSCALE:GREGORIAN
METHOD:PUBLISH
BEGIN:VEVENT
UID:event-2545@www.doppelpunkt.de
DTSTAMP:20260421T064832
DTSTART:20260107T200000
DTEND:20260107T200000
SUMMARY:Mathias Tretter: "Nachgetrettert - Der satirische Jahresrückblick"\, Kabarett
LOCATION:Kulturfabrik Roth\, Stieberstr. 7\, 91154 Roth
STATUS:CONFIRMED
END:VEVENT
END:VCALENDAR