BEGIN:VCALENDAR
VERSION:2.0
PRODID:-//Doppelpunkt//Events//DE
CALSCALE:GREGORIAN
METHOD:PUBLISH
BEGIN:VEVENT
UID:event-2543@www.doppelpunkt.de
DTSTAMP:20260419T183954
DTSTART:20251207T110000
DTEND:20251207T110000
SUMMARY:Django Asül: "Rückspiegel 2025"\, Kabarett
LOCATION:Kulturfabrik Roth\, Stieberstr. 7\, 91154 Roth
STATUS:CONFIRMED
END:VEVENT
END:VCALENDAR