BEGIN:VCALENDAR
VERSION:2.0
PRODID:-//Doppelpunkt//Events//DE
CALSCALE:GREGORIAN
METHOD:PUBLISH
BEGIN:VEVENT
UID:event-2540@www.doppelpunkt.de
DTSTAMP:20260425T135757
DTSTART:20260119T200000
DTEND:20260119T200000
SUMMARY:"The Art of Jazz": Baroque Project Madrigal Moods
LOCATION:Künstlerhaus Festsaal\, Königstr. 93\, 90402 Nürnberg
STATUS:CONFIRMED
END:VEVENT
END:VCALENDAR