BEGIN:VCALENDAR
VERSION:2.0
PRODID:-//Doppelpunkt//Events//DE
CALSCALE:GREGORIAN
METHOD:PUBLISH
BEGIN:VEVENT
UID:event-2531@www.doppelpunkt.de
DTSTAMP:20260425T140703
DTSTART:20260131T210000
DTEND:20260131T210000
SUMMARY:Paul Brändle & Andreas Dombert (Jazz-Guitars)
LOCATION:Jazzstudio\, Paniersplatz 27-29\, 90403 Nürnberg
STATUS:CONFIRMED
END:VEVENT
END:VCALENDAR