BEGIN:VCALENDAR
VERSION:2.0
PRODID:-//Doppelpunkt//Events//DE
CALSCALE:GREGORIAN
METHOD:PUBLISH
BEGIN:VEVENT
UID:event-2529@www.doppelpunkt.de
DTSTAMP:20260425T141945
DTSTART:20260124T210000
DTEND:20260124T210000
SUMMARY:Mikkel Ploug Trio (Gitarrenjazz)
LOCATION:Jazzstudio\, Paniersplatz 27-29\, 90403 Nürnberg
STATUS:CONFIRMED
END:VEVENT
END:VCALENDAR