BEGIN:VCALENDAR
VERSION:2.0
PRODID:-//Doppelpunkt//Events//DE
CALSCALE:GREGORIAN
METHOD:PUBLISH
BEGIN:VEVENT
UID:event-2527@www.doppelpunkt.de
DTSTAMP:20260425T140827
DTSTART:20260121T200000
DTEND:20260121T200000
SUMMARY:"Vibraphonissimo": Alessandro Fedrigo XY Quartet (Modern Jazz)
LOCATION:Jazzstudio\, Paniersplatz 27-29\, 90403 Nürnberg
STATUS:CONFIRMED
END:VEVENT
END:VCALENDAR