BEGIN:VCALENDAR
VERSION:2.0
PRODID:-//Doppelpunkt//Events//DE
CALSCALE:GREGORIAN
METHOD:PUBLISH
BEGIN:VEVENT
UID:event-2523@www.doppelpunkt.de
DTSTAMP:20260421T104016
DTSTART:20260109T210000
DTEND:20260109T210000
SUMMARY:Cloud & Stone (Contemporary Modern Jazz)
LOCATION:Jazzstudio\, Paniersplatz 27-29\, 90403 Nürnberg
STATUS:CONFIRMED
END:VEVENT
END:VCALENDAR