BEGIN:VCALENDAR
VERSION:2.0
PRODID:-//Doppelpunkt//Events//DE
CALSCALE:GREGORIAN
METHOD:PUBLISH
BEGIN:VEVENT
UID:event-2515@www.doppelpunkt.de
DTSTAMP:20260425T123001
DTSTART:20260216T200000
DTEND:20260216T200000
SUMMARY:VPT: "Die drei ??? und der Fluch des Rubins"\, Playback-Theater
LOCATION:Z-Bau\, Frankenstr. 200\, 90461 Nürnberg
STATUS:CONFIRMED
END:VEVENT
END:VCALENDAR