BEGIN:VCALENDAR
VERSION:2.0
PRODID:-//Doppelpunkt//Events//DE
CALSCALE:GREGORIAN
METHOD:PUBLISH
BEGIN:VEVENT
UID:event-2514@www.doppelpunkt.de
DTSTAMP:20260421T105540
DTSTART:20260208T140000
DTEND:20260208T140000
SUMMARY:Clubbühne: Theater vom Rabenberg: "Der kleine Rabe Socke"\, ab 3 J. (auch um 16 Uhr)
LOCATION:E-Werk\, Fuchsenwiese 1\, 91054 Erlangen
STATUS:CONFIRMED
END:VEVENT
END:VCALENDAR