BEGIN:VCALENDAR
VERSION:2.0
PRODID:-//Doppelpunkt//Events//DE
CALSCALE:GREGORIAN
METHOD:PUBLISH
BEGIN:VEVENT
UID:event-2513@www.doppelpunkt.de
DTSTAMP:20260425T142130
DTSTART:20260122T200000
DTEND:20260122T200000
SUMMARY:Urban Priol: "Tilt! Jahresrückblick"
LOCATION:Heinrich-Lades-Halle\, Rathausplatz 2\, 91052 Erlangen
STATUS:CONFIRMED
END:VEVENT
END:VCALENDAR