BEGIN:VCALENDAR
VERSION:2.0
PRODID:-//Doppelpunkt//Events//DE
CALSCALE:GREGORIAN
METHOD:PUBLISH
BEGIN:VEVENT
UID:event-2512@www.doppelpunkt.de
DTSTAMP:20260425T135708
DTSTART:20260118T200000
DTEND:20260118T200000
SUMMARY:Clubbühne: Marcus Wiebusch & Craig Finn (Songwriter/Stories)
LOCATION:E-Werk\, Fuchsenwiese 1\, 91054 Erlangen
STATUS:CONFIRMED
END:VEVENT
END:VCALENDAR