BEGIN:VCALENDAR
VERSION:2.0
PRODID:-//Doppelpunkt//Events//DE
CALSCALE:GREGORIAN
METHOD:PUBLISH
BEGIN:VEVENT
UID:event-2506@www.doppelpunkt.de
DTSTAMP:20260425T124006
DTSTART:20251210T200000
DTEND:20251210T200000
SUMMARY:Saal: Alex Stoldt: "Quasi nichts"\, Comedy
LOCATION:E-Werk\, Fuchsenwiese 1\, 91054 Erlangen
STATUS:CONFIRMED
END:VEVENT
END:VCALENDAR