BEGIN:VCALENDAR
VERSION:2.0
PRODID:-//Doppelpunkt//Events//DE
CALSCALE:GREGORIAN
METHOD:PUBLISH
BEGIN:VEVENT
UID:event-2505@www.doppelpunkt.de
DTSTAMP:20260419T183520
DTSTART:20251207T120000
DTEND:20251207T120000
SUMMARY:Saal: Theater Fritz und Freunde: "Das Dschungelbuch"\, Musiktheater nach Rudyard Kipling\, ab 4 J. (auch um 14.30)
LOCATION:E-Werk\, Fuchsenwiese 1\, 91054 Erlangen
STATUS:CONFIRMED
END:VEVENT
END:VCALENDAR