BEGIN:VCALENDAR
VERSION:2.0
PRODID:-//Doppelpunkt//Events//DE
CALSCALE:GREGORIAN
METHOD:PUBLISH
BEGIN:VEVENT
UID:event-2491@www.doppelpunkt.de
DTSTAMP:20260420T234846
DTSTART:20260102T200000
DTEND:20260102T200000
SUMMARY:Saal: Jazzrausch Bigband (Bigband/Techno/Brass)
LOCATION:E-Werk\, Fuchsenwiese 1\, 91054 Erlangen
STATUS:CONFIRMED
END:VEVENT
END:VCALENDAR