BEGIN:VCALENDAR
VERSION:2.0
PRODID:-//Doppelpunkt//Events//DE
CALSCALE:GREGORIAN
METHOD:PUBLISH
BEGIN:VEVENT
UID:event-2487@www.doppelpunkt.de
DTSTAMP:20260425T135455
DTSTART:20260117T220000
DTEND:20260117T220000
SUMMARY:Clubbühne: "Genetic Groove"\, Techno Event by Nachtschicht Kollektiv
LOCATION:E-Werk\, Fuchsenwiese 1\, 91054 Erlangen
STATUS:CONFIRMED
END:VEVENT
END:VCALENDAR