BEGIN:VCALENDAR
VERSION:2.0
PRODID:-//Doppelpunkt//Events//DE
CALSCALE:GREGORIAN
METHOD:PUBLISH
BEGIN:VEVENT
UID:event-2486@www.doppelpunkt.de
DTSTAMP:20260421T114226
DTSTART:20251231T210000
DTEND:20251231T210000
SUMMARY:Silvester-Party: 3 Dancefloors\, Glitzerkaraoke uvm.
LOCATION:E-Werk\, Fuchsenwiese 1\, 91054 Erlangen
STATUS:CONFIRMED
END:VEVENT
END:VCALENDAR