BEGIN:VCALENDAR
VERSION:2.0
PRODID:-//Doppelpunkt//Events//DE
CALSCALE:GREGORIAN
METHOD:PUBLISH
BEGIN:VEVENT
UID:event-2485@www.doppelpunkt.de
DTSTAMP:20260421T111540
DTSTART:20251227T220000
DTEND:20251227T220000
SUMMARY:Clubbühne: "Urlaub fürs Gehirn: Kraftklub-\, Kummer-\, KIZ + Kassler-Party"\, mit DJ Flunkern u. GlitzerDJMarius
LOCATION:E-Werk\, Fuchsenwiese 1\, 91054 Erlangen
STATUS:CONFIRMED
END:VEVENT
END:VCALENDAR