BEGIN:VCALENDAR
VERSION:2.0
PRODID:-//Doppelpunkt//Events//DE
CALSCALE:GREGORIAN
METHOD:PUBLISH
BEGIN:VEVENT
UID:event-2481@www.doppelpunkt.de
DTSTAMP:20260420T234814
DTSTART:20260103T200000
DTEND:20260103T200000
SUMMARY:Kellerbühne: "Umsonst & Drinnen": Die Utopisten (Rock)
LOCATION:E-Werk\, Fuchsenwiese 1\, 91054 Erlangen
STATUS:CONFIRMED
END:VEVENT
END:VCALENDAR