BEGIN:VCALENDAR
VERSION:2.0
PRODID:-//Doppelpunkt//Events//DE
CALSCALE:GREGORIAN
METHOD:PUBLISH
BEGIN:VEVENT
UID:event-2477@www.doppelpunkt.de
DTSTAMP:20260425T122821
DTSTART:20251209T153000
DTEND:20251210T235900
SUMMARY:Reihe "La Dolce Vita": Die Farben der Zeit (14.30 Uhr Kaffee u. Kuchen)
LOCATION:E-Werk Kino\, Fuchsenwiese 1\, 91054 Erlangen
STATUS:CONFIRMED
END:VEVENT
END:VCALENDAR