BEGIN:VCALENDAR
VERSION:2.0
PRODID:-//Doppelpunkt//Events//DE
CALSCALE:GREGORIAN
METHOD:PUBLISH
BEGIN:VEVENT
UID:event-2476@www.doppelpunkt.de
DTSTAMP:20260425T122813
DTSTART:20251207T180000
DTEND:20251207T180000
SUMMARY:Weitsicht ERlangen: Walud
LOCATION:E-Werk Kino\, Fuchsenwiese 1\, 91054 Erlangen
STATUS:CONFIRMED
END:VEVENT
END:VCALENDAR