BEGIN:VCALENDAR
VERSION:2.0
PRODID:-//Doppelpunkt//Events//DE
CALSCALE:GREGORIAN
METHOD:PUBLISH
BEGIN:VEVENT
UID:event-2467@www.doppelpunkt.de
DTSTAMP:20260421T105521
DTSTART:20260219T200000
DTEND:20260219T200000
SUMMARY:Martin Fromme: "ArmLeuchter"\, Comedy
LOCATION:Fifty Fifty\, Südliche Stadtmauerstr. 1\, 91054 Erlangen
STATUS:CONFIRMED
END:VEVENT
END:VCALENDAR