BEGIN:VCALENDAR
VERSION:2.0
PRODID:-//Doppelpunkt//Events//DE
CALSCALE:GREGORIAN
METHOD:PUBLISH
BEGIN:VEVENT
UID:event-2464@www.doppelpunkt.de
DTSTAMP:20260421T111545
DTSTART:20260212T200000
DTEND:20260212T200000
SUMMARY:Florian Wagner: "The Flo Must Go On"\, Musik-Comedy
LOCATION:Fifty Fifty\, Südliche Stadtmauerstr. 1\, 91054 Erlangen
STATUS:CONFIRMED
END:VEVENT
END:VCALENDAR