BEGIN:VCALENDAR
VERSION:2.0
PRODID:-//Doppelpunkt//Events//DE
CALSCALE:GREGORIAN
METHOD:PUBLISH
BEGIN:VEVENT
UID:event-2463@www.doppelpunkt.de
DTSTAMP:20260421T111546
DTSTART:20260207T200000
DTEND:20260207T200000
SUMMARY:Stefan Danziger: "Mittel & Wege"\, Comedy
LOCATION:Fifty Fifty\, Südliche Stadtmauerstr. 1\, 91054 Erlangen
STATUS:CONFIRMED
END:VEVENT
END:VCALENDAR