BEGIN:VCALENDAR
VERSION:2.0
PRODID:-//Doppelpunkt//Events//DE
CALSCALE:GREGORIAN
METHOD:PUBLISH
BEGIN:VEVENT
UID:event-2457@www.doppelpunkt.de
DTSTAMP:20260425T135823
DTSTART:20260129T200000
DTEND:20260129T200000
SUMMARY:Stefan Eichner spielt Reinhard Mey (Liedermacher)
LOCATION:Fifty Fifty\, Südliche Stadtmauerstr. 1\, 91054 Erlangen
STATUS:CONFIRMED
END:VEVENT
END:VCALENDAR