BEGIN:VCALENDAR
VERSION:2.0
PRODID:-//Doppelpunkt//Events//DE
CALSCALE:GREGORIAN
METHOD:PUBLISH
BEGIN:VEVENT
UID:event-2456@www.doppelpunkt.de
DTSTAMP:20260425T142308
DTSTART:20260124T200000
DTEND:20260124T200000
SUMMARY:Berni Wagner: "Monster"\, Comedy
LOCATION:Fifty Fifty\, Südliche Stadtmauerstr. 1\, 91054 Erlangen
STATUS:CONFIRMED
END:VEVENT
END:VCALENDAR