BEGIN:VCALENDAR
VERSION:2.0
PRODID:-//Doppelpunkt//Events//DE
CALSCALE:GREGORIAN
METHOD:PUBLISH
BEGIN:VEVENT
UID:event-2455@www.doppelpunkt.de
DTSTAMP:20260425T135458
DTSTART:20260123T200000
DTEND:20260123T200000
SUMMARY:Streckenbach & Köhler: "Bis einer heult"\, Comedy
LOCATION:Fifty Fifty\, Südliche Stadtmauerstr. 1\, 91054 Erlangen
STATUS:CONFIRMED
END:VEVENT
END:VCALENDAR