BEGIN:VCALENDAR
VERSION:2.0
PRODID:-//Doppelpunkt//Events//DE
CALSCALE:GREGORIAN
METHOD:PUBLISH
BEGIN:VEVENT
UID:event-2453@www.doppelpunkt.de
DTSTAMP:20260425T142213
DTSTART:20260117T200000
DTEND:20260117T200000
SUMMARY:Huebnotix (akust. Rock-Cover)
LOCATION:Fifty Fifty\, Südliche Stadtmauerstr. 1\, 91054 Erlangen
STATUS:CONFIRMED
END:VEVENT
END:VCALENDAR