BEGIN:VCALENDAR
VERSION:2.0
PRODID:-//Doppelpunkt//Events//DE
CALSCALE:GREGORIAN
METHOD:PUBLISH
BEGIN:VEVENT
UID:event-2451@www.doppelpunkt.de
DTSTAMP:20260425T142308
DTSTART:20260114T200000
DTEND:20260114T200000
SUMMARY:LaLeLu (A cappella-Comedy)
LOCATION:Fifty Fifty\, Südliche Stadtmauerstr. 1\, 91054 Erlangen
STATUS:CONFIRMED
END:VEVENT
END:VCALENDAR