BEGIN:VCALENDAR
VERSION:2.0
PRODID:-//Doppelpunkt//Events//DE
CALSCALE:GREGORIAN
METHOD:PUBLISH
BEGIN:VEVENT
UID:event-2450@www.doppelpunkt.de
DTSTAMP:20260425T145233
DTSTART:20260303T180000
DTEND:20260303T180000
SUMMARY:Andy Strauß: "Inhalte hinhalten"\, Comedy
LOCATION:Fifty Fifty\, Südliche Stadtmauerstr. 1\, 91054 Erlangen
STATUS:CONFIRMED
END:VEVENT
END:VCALENDAR