BEGIN:VCALENDAR
VERSION:2.0
PRODID:-//Doppelpunkt//Events//DE
CALSCALE:GREGORIAN
METHOD:PUBLISH
BEGIN:VEVENT
UID:event-2449@www.doppelpunkt.de
DTSTAMP:20260421T105107
DTSTART:20260109T200000
DTEND:20260109T200000
SUMMARY:Lutz von Rosenberg Lipinsky: "Keine Bewegung!"\, Kabarett
LOCATION:Fifty Fifty\, Südliche Stadtmauerstr. 1\, 91054 Erlangen
STATUS:CONFIRMED
END:VEVENT
END:VCALENDAR