BEGIN:VCALENDAR
VERSION:2.0
PRODID:-//Doppelpunkt//Events//DE
CALSCALE:GREGORIAN
METHOD:PUBLISH
BEGIN:VEVENT
UID:event-2448@www.doppelpunkt.de
DTSTAMP:20260421T083904
DTSTART:20260108T190000
DTEND:20260108T190000
SUMMARY:27. Erlanger Lachnacht: Kabarett\, Comedy u. Musik
LOCATION:Fifty Fifty\, Südliche Stadtmauerstr. 1\, 91054 Erlangen
STATUS:CONFIRMED
END:VEVENT
END:VCALENDAR