BEGIN:VCALENDAR
VERSION:2.0
PRODID:-//Doppelpunkt//Events//DE
CALSCALE:GREGORIAN
METHOD:PUBLISH
BEGIN:VEVENT
UID:event-2447@www.doppelpunkt.de
DTSTAMP:20260421T032220
DTSTART:20260105T190000
DTEND:20260105T190000
SUMMARY:4 Souls (akust. Cover-Songs)
LOCATION:Fifty Fifty\, Südliche Stadtmauerstr. 1\, 91054 Erlangen
STATUS:CONFIRMED
END:VEVENT
END:VCALENDAR